BEGIN:VCALENDAR
VERSION:2.0
PRODID:-//Village of Elkhart Lake - ECPv6.15.19//NONSGML v1.0//EN
CALSCALE:GREGORIAN
METHOD:PUBLISH
X-WR-CALNAME:Village of Elkhart Lake
X-ORIGINAL-URL:https://elkhartlakewi.gov
X-WR-CALDESC:Events for Village of Elkhart Lake
REFRESH-INTERVAL;VALUE=DURATION:PT1H
X-Robots-Tag:noindex
X-PUBLISHED-TTL:PT1H
BEGIN:VTIMEZONE
TZID:America/Chicago
BEGIN:DAYLIGHT
TZOFFSETFROM:-0600
TZOFFSETTO:-0500
TZNAME:CDT
DTSTART:20220313T080000
END:DAYLIGHT
BEGIN:STANDARD
TZOFFSETFROM:-0500
TZOFFSETTO:-0600
TZNAME:CST
DTSTART:20221106T070000
END:STANDARD
BEGIN:DAYLIGHT
TZOFFSETFROM:-0600
TZOFFSETTO:-0500
TZNAME:CDT
DTSTART:20230312T080000
END:DAYLIGHT
BEGIN:STANDARD
TZOFFSETFROM:-0500
TZOFFSETTO:-0600
TZNAME:CST
DTSTART:20231105T070000
END:STANDARD
BEGIN:DAYLIGHT
TZOFFSETFROM:-0600
TZOFFSETTO:-0500
TZNAME:CDT
DTSTART:20240310T080000
END:DAYLIGHT
BEGIN:STANDARD
TZOFFSETFROM:-0500
TZOFFSETTO:-0600
TZNAME:CST
DTSTART:20241103T070000
END:STANDARD
END:VTIMEZONE
BEGIN:VEVENT
DTSTART;TZID=America/Chicago:20230320T175000
DTEND;TZID=America/Chicago:20230320T180000
DTSTAMP:20260422T170302
CREATED:20190815T192908Z
LAST-MODIFIED:20230317T154012Z
UID:2789-1679334600-1679335200@elkhartlakewi.gov
SUMMARY:Public Hearing-  Comprehensive Plan Map Amendment
DESCRIPTION:
URL:https://elkhartlakewi.gov/event/public-hearing-sofen-701-fromm-lane-rebuild-existing-home-garage-2/
LOCATION:WI
CATEGORIES:Board Meeting,Board of Trustees,Village Events
END:VEVENT
END:VCALENDAR