BEGIN:VCALENDAR
VERSION:2.0
PRODID:-//Village of Elkhart Lake - ECPv6.15.19//NONSGML v1.0//EN
CALSCALE:GREGORIAN
METHOD:PUBLISH
X-ORIGINAL-URL:https://elkhartlakewi.gov
X-WR-CALDESC:Events for Village of Elkhart Lake
REFRESH-INTERVAL;VALUE=DURATION:PT1H
X-Robots-Tag:noindex
X-PUBLISHED-TTL:PT1H
BEGIN:VTIMEZONE
TZID:UTC
BEGIN:STANDARD
TZOFFSETFROM:+0000
TZOFFSETTO:+0000
TZNAME:UTC
DTSTART:20220101T000000
END:STANDARD
END:VTIMEZONE
BEGIN:VEVENT
DTSTART;TZID=UTC:20231026T140000
DTEND;TZID=UTC:20231026T150000
DTSTAMP:20260423T032611
CREATED:20180109T001153Z
LAST-MODIFIED:20231019T203917Z
UID:1562-1698328800-1698332400@elkhartlakewi.gov
SUMMARY:Community Development Authority
DESCRIPTION:
URL:https://elkhartlakewi.gov/event/community-development-authority/
LOCATION:Grashorn Civic Center\, 84 N Lake Street\, Village of Elkhart Lake\, WI\, 53020\, United States
CATEGORIES:Community Development Authority
END:VEVENT
END:VCALENDAR